BEGIN:VCALENDAR
VERSION:2.0
PRODID:-//Plone.org//NONSGML plone.app.event//EN
X-WR-TIMEZONE:Europe/Vienna
BEGIN:VEVENT
SUMMARY:Wachaubahn – Vergangenheit und Zukunft auf Schiene?
DTSTART;TZID=Europe/Vienna:20260529T093000
DTEND;TZID=Europe/Vienna:20260529T110000
DTSTAMP:20260421T164859Z
UID:b1a4260108ae46a5afeb229c803e9f53@at26-prod-aaf.web.kup6s.net
CATEGORIES:AT26,Architekturtage 2026
CREATED:20251202T150511Z
DESCRIPTION:Die Wachaubahn\, eine der historischen Schmalspurbahnen Nieder
 österreichs\, war einst die Lebensader für abgelegene Ortschaften entlan
 g der Donau. Ihre knapp 35 km lange Strecke verbindet Krems mit Emmersdorf
  und wurde 1909 eröffnet\, um Handel\, Pendlerverkehr und Tourismus gleic
 hermaßen zu ermöglichen. In ihrer Blütezeit transportierte die Bahn tä
 glich hunderte Menschen und war zentral für die wirtschaftliche Entwicklu
 ng der Region.
GEO:48.406832869865;15.58572918176651
LAST-MODIFIED:20260320T123508Z
LOCATION;ALTREP="https://at26-prod-aaf.web.kup6s.net/2026/orte/lib/adressb
 uch/universitaet-fuer-weiterbildung":Universität für Weiterbildung\, Dr.
  Karl-Dorrek-Straße 30\, 3500 Krems\, Austria
URL:https://at26-prod-aaf.web.kup6s.net/2026/orte/programm/wachaubahn-verg
 angenheit-und-zukunft-auf-schiene
END:VEVENT
BEGIN:VTIMEZONE
TZID:Europe/Vienna
X-LIC-LOCATION:Europe/Vienna
BEGIN:DAYLIGHT
DTSTART:20260329T030000
TZNAME:CEST
TZOFFSETFROM:+0100
TZOFFSETTO:+0200
END:DAYLIGHT
END:VTIMEZONE
END:VCALENDAR
