BEGIN:VCALENDAR
VERSION:2.0
PRODID:-//Plone.org//NONSGML plone.app.event//EN
X-WR-TIMEZONE:Europe/Vienna
BEGIN:VEVENT
SUMMARY:Bauherr:innenpreis 2026: Werkvorträge der Jury für die Steiermar
 k
DTSTART;TZID=Europe/Vienna:20260423T190000
DTEND;TZID=Europe/Vienna:20260423T210000
DTSTAMP:20260419T204411Z
UID:3236caf96bdc42a78ee09386130af28c@at26-prod-aaf.web.kup6s.net
CREATED:20260326T131625Z
DESCRIPTION:Bevor die Besichtigungstour durch die Steiermark beginnt\, geb
 en die Jurorinnen des BHP'26 exklusive Einblicke in ihr eigenes Schaffen. 
 Anja Innauer\, Markus Pendlmayr und Michael Höcketstaller präsentieren i
 n ihren Werkvorträgen persönliche Arbeitsweisen und fachliche Hintergrü
 nde – die perfekte Einstimmung\, bevor die Begutachtung der eingereichte
 n Projekte vor Ort startet.
LAST-MODIFIED:20260326T134228Z
URL:https://at26-prod-aaf.web.kup6s.net/2026/hda/programm/bhp26-werkvortra
 ege-steiermark
END:VEVENT
BEGIN:VTIMEZONE
TZID:Europe/Vienna
X-LIC-LOCATION:Europe/Vienna
BEGIN:DAYLIGHT
DTSTART:20260329T030000
TZNAME:CEST
TZOFFSETFROM:+0100
TZOFFSETTO:+0200
END:DAYLIGHT
END:VTIMEZONE
END:VCALENDAR
