BEGIN:VCALENDAR
VERSION:2.0
PRODID:-//Plone.org//NONSGML plone.app.event//EN
X-WR-TIMEZONE:Europe/Vienna
BEGIN:VEVENT
SUMMARY:INFRASTRUKTUR AM ZUG – Zwei Städte\, zwei Architekturhäuser\, 
 ein neuer Dialog
DTSTART;TZID=Europe/Vienna:20260530T100000
DTEND;TZID=Europe/Vienna:20260530T170000
DTSTAMP:20260421T015443Z
UID:9149a64f55834848830f615bc6e0db74@at26-prod-aaf.web.kup6s.net
CATEGORIES:AT26
CREATED:20260320T090946Z
DESCRIPTION:Die Koralmbahn bringt Graz und Klagenfurt näher zusammen – 
 und eröffnet neue Möglichkeiten des Miteinanders. Im Rahmen der Architek
 turtage 2026 wird diese Verbindung erlebbar: Der Zug wird zum Denkraum fü
 r Austausch und neue Perspektiven\, während in Klagenfurt ein Stadtspazie
 rgang soziale Infrastruktur sichtbar macht. Ausstellungen\, Kulinarik und 
 ein Quiz laden zum Mitmachen ein\, bevor es zurück nach Graz geht – mit
  neuen Eindrücken. Eine Reise\, die zeigt\, wie Infrastruktur Räume\, Me
 nschen und Ideen verbindet.
GEO:47.0734816121509;15.416915722785657
LAST-MODIFIED:20260407T163122Z
LOCATION;ALTREP="https://at26-prod-aaf.web.kup6s.net/2026/hda/lib/adressbu
 ch/hauptbahnhof-graz":Hauptbahnhof Graz\, Europaplatz\, 8020 Graz\, Austri
 a
URL:https://at26-prod-aaf.web.kup6s.net/2026/hda/programm/aktuell/infrastr
 uktur-am-zug-zwei-staedte-zwei-architekturhaeuser-ein-neuer-dialog
END:VEVENT
BEGIN:VTIMEZONE
TZID:Europe/Vienna
X-LIC-LOCATION:Europe/Vienna
BEGIN:DAYLIGHT
DTSTART:20260329T030000
TZNAME:CEST
TZOFFSETFROM:+0100
TZOFFSETTO:+0200
END:DAYLIGHT
END:VTIMEZONE
END:VCALENDAR
