BEGIN:VCALENDAR
VERSION:2.0
PRODID:-//Plone.org//NONSGML plone.app.event//EN
X-WR-TIMEZONE:Europe/Vienna
BEGIN:VEVENT
SUMMARY:The Prize Bag: Double Lives of Architecture. Architecture Prize of
  the Province of Styria 2025
DTSTART;VALUE=DATE:20260226
DTEND;VALUE=DATE:20260516
DTSTAMP:20260419T213054Z
UID:11340ef1126945658dc68fec2105df89@at26-prod-aaf.web.kup6s.net
CATEGORIES:Landespreis
CREATED:20260205T112929Z
DESCRIPTION:The Prize Bag: Double Lives of Architecture exhibition was dev
 eloped within the framework of the Architecture Prize of the Province of S
 tyria. Curated by Sevince Bayrak and Oral Göktaş of the Istanbul-based s
 tudio SO? architecture and ideas\, the exhibition and accompanying publica
 tion propose shifting our understanding of architectural prizes—seeing t
 hem as instruments for inquiry rather than final judgments.
GEO:47.0711273;15.4338653
LAST-MODIFIED:20260216T145845Z
LOCATION;ALTREP="https://at26-prod-aaf.web.kup6s.net/2026/hda/lib/adressbu
 ch/hda-haus-der-architektur":HDA – Haus der Architektur\, Mariahilferstr
 aße 2\, 8020 Graz\, Austria
URL:https://at26-prod-aaf.web.kup6s.net/2026/hda/en/programme/the-prize-ba
 g-double-lives-of-architecture
END:VEVENT
END:VCALENDAR
